BEGIN:VCALENDAR
VERSION:2.0
PRODID:-//hacksw/handcal//NONSGML v1.0//EN
CALSCALE:GREGORIAN
BEGIN:VEVENT
DTEND:20240914T230000Z
UID:69e74195418d9
DTSTAMP:20260421T102125Z
LOCATION:Dorset\, England
DESCRIPTION:
URL;VALUE=URI:
SUMMARY:IRONMAN 70.3 Weymouth
DTSTART:20240914T230000Z
END:VEVENT
END:VCALENDAR
An internal server error occurred.