BEGIN:VCALENDAR
VERSION:2.0
PRODID:-//hacksw/handcal//NONSGML v1.0//EN
CALSCALE:GREGORIAN
BEGIN:VEVENT
DTEND:20240906T230000Z
UID:69e859db2ba38
DTSTAMP:20260422T061715Z
LOCATION:Madison\, Wisconsin
DESCRIPTION:
URL;VALUE=URI:
SUMMARY:IRONMAN 70.3 Wisconsin
DTSTART:20240906T230000Z
END:VEVENT
END:VCALENDAR
An internal server error occurred.