BEGIN:VCALENDAR
VERSION:2.0
PRODID:-//hacksw/handcal//NONSGML v1.0//EN
CALSCALE:GREGORIAN
BEGIN:VEVENT
DTEND:20240823T230000Z
UID:69e63b4d32b12
DTSTAMP:20260420T154221Z
LOCATION:10000 Tallin
DESCRIPTION:
URL;VALUE=URI:
SUMMARY:IRONMAN Tallinn
DTSTART:20240823T230000Z
END:VEVENT
END:VCALENDAR
An internal server error occurred.