BEGIN:VCALENDAR
VERSION:2.0
PRODID:-//hacksw/handcal//NONSGML v1.0//EN
CALSCALE:GREGORIAN
BEGIN:VEVENT
DTEND:20240817T230000Z
UID:69e6490eba769
DTSTAMP:20260420T164102Z
LOCATION:1050 Copenhagen

DESCRIPTION:
URL;VALUE=URI:
SUMMARY:IRONMAN Copenhagen
DTSTART:20240817T230000Z
END:VEVENT
END:VCALENDAR
An internal server error occurred.