BEGIN:VCALENDAR
VERSION:2.0
PRODID:-//hacksw/handcal//NONSGML v1.0//EN
CALSCALE:GREGORIAN
BEGIN:VEVENT
DTEND:20240727T230000Z
UID:69e632ff48bde
DTSTAMP:20260420T150655Z
LOCATION:Calgary\, Alberta

DESCRIPTION:
 

URL;VALUE=URI:
SUMMARY:IRONMAN 70.3 Calgary
DTSTART:20240727T230000Z
END:VEVENT
END:VCALENDAR
An internal server error occurred.