BEGIN:VCALENDAR
VERSION:2.0
PRODID:-//hacksw/handcal//NONSGML v1.0//EN
CALSCALE:GREGORIAN
BEGIN:VEVENT
DTEND:20240720T230000Z
UID:69e741952ba5f
DTSTAMP:20260421T102125Z
LOCATION:Salem
DESCRIPTION:
URL;VALUE=URI:
SUMMARY:IRONMAN 70.3 Oregon
DTSTART:20240720T230000Z
END:VEVENT
END:VCALENDAR
An internal server error occurred.