BEGIN:VCALENDAR
VERSION:2.0
PRODID:-//hacksw/handcal//NONSGML v1.0//EN
CALSCALE:GREGORIAN
BEGIN:VEVENT
DTEND:20240720T230000Z
UID:69e6de3579a61
DTSTAMP:20260421T031725Z
LOCATION:12946 Lake Placid\, New York
DESCRIPTION:
 

URL;VALUE=URI:
SUMMARY:IRONMAN Lake Placid
DTSTART:20240720T230000Z
END:VEVENT
END:VCALENDAR
An internal server error occurred.