BEGIN:VCALENDAR
VERSION:2.0
PRODID:-//hacksw/handcal//NONSGML v1.0//EN
CALSCALE:GREGORIAN
BEGIN:VEVENT
DTEND:20240706T230000Z
UID:69e6d643702ae
DTSTAMP:20260421T024331Z
LOCATION:1000 Thun 
DESCRIPTION:
URL;VALUE=URI:
SUMMARY:IRONMAN Switzerland Thun
DTSTART:20240706T230000Z
END:VEVENT
END:VCALENDAR
An internal server error occurred.