BEGIN:VCALENDAR
VERSION:2.0
PRODID:-//hacksw/handcal//NONSGML v1.0//EN
CALSCALE:GREGORIAN
BEGIN:VEVENT
DTEND:20240706T230000Z
UID:69e956a3dc30b
DTSTAMP:20260423T001547Z
LOCATION:Huntsville\, Ontario

DESCRIPTION:
URL;VALUE=URI:
SUMMARY:IRONMAN 70.3 Muskoka
DTSTART:20240706T230000Z
END:VEVENT
END:VCALENDAR
An internal server error occurred.