BEGIN:VCALENDAR
VERSION:2.0
PRODID:-//hacksw/handcal//NONSGML v1.0//EN
CALSCALE:GREGORIAN
BEGIN:VEVENT
DTEND:20240629T230000Z
UID:69e5e2211c829
DTSTAMP:20260420T092153Z
LOCATION:Bolton\, England
DESCRIPTION:
URL;VALUE=URI:
SUMMARY:IRONMAN 70.3 Bolton
DTSTART:20240629T230000Z
END:VEVENT
END:VCALENDAR
An internal server error occurred.