BEGIN:VCALENDAR
VERSION:2.0
PRODID:-//hacksw/handcal//NONSGML v1.0//EN
CALSCALE:GREGORIAN
BEGIN:VEVENT
DTEND:20240629T230000Z
UID:69eb0b75e9ab6
DTSTAMP:20260424T071933Z
LOCATION:Region Moselle
DESCRIPTION:
URL;VALUE=URI:
SUMMARY:IRONMAN 70.3 Luxembourg Remich-Région Moselle
DTSTART:20240629T230000Z
END:VEVENT
END:VCALENDAR
An internal server error occurred.