BEGIN:VCALENDAR
VERSION:2.0
PRODID:-//hacksw/handcal//NONSGML v1.0//EN
CALSCALE:GREGORIAN
BEGIN:VEVENT
DTEND:20240615T230000Z
UID:69e70ec4e4c6f
DTSTAMP:20260421T064436Z
LOCATION:4000 Queensland

DESCRIPTION:
URL;VALUE=URI:
SUMMARY:IRONMAN 70.3 Cairns
DTSTART:20240615T230000Z
END:VEVENT
END:VCALENDAR
An internal server error occurred.