BEGIN:VCALENDAR
VERSION:2.0
PRODID:-//hacksw/handcal//NONSGML v1.0//EN
CALSCALE:GREGORIAN
BEGIN:VEVENT
DTEND:20240615T230000Z
UID:69e59f996b91d
DTSTAMP:20260420T043801Z
LOCATION:1000 Goseong\, Korea
DESCRIPTION:
URL;VALUE=URI:
SUMMARY:IRONMAN 70.3 Goseong
DTSTART:20240615T230000Z
END:VEVENT
END:VCALENDAR
An internal server error occurred.