BEGIN:VCALENDAR
VERSION:2.0
PRODID:-//hacksw/handcal//NONSGML v1.0//EN
CALSCALE:GREGORIAN
BEGIN:VEVENT
DTEND:20240608T230000Z
UID:69e566f18cdaf
DTSTAMP:20260420T003617Z
LOCATION:00-001 Warsaw\, Poland
DESCRIPTION:
URL;VALUE=URI:
SUMMARY:IRONMAN 70.3 Warsaw
DTSTART:20240608T230000Z
END:VEVENT
END:VCALENDAR
An internal server error occurred.