BEGIN:VCALENDAR
VERSION:2.0
PRODID:-//hacksw/handcal//NONSGML v1.0//EN
CALSCALE:GREGORIAN
BEGIN:VEVENT
DTEND:20240608T230000Z
UID:69e59f9d4091d
DTSTAMP:20260420T043805Z
LOCATION:Subic Bay

DESCRIPTION:
URL;VALUE=URI:
SUMMARY:IRONMAN 70.3 Subic Bay
DTSTART:20240608T230000Z
END:VEVENT
END:VCALENDAR
An internal server error occurred.