BEGIN:VCALENDAR
VERSION:2.0
PRODID:-//hacksw/handcal//NONSGML v1.0//EN
CALSCALE:GREGORIAN
BEGIN:VEVENT
DTEND:20240601T230000Z
UID:69e58cf2d6630
DTSTAMP:20260420T031826Z
LOCATION:Kwa Zulu Natal
DESCRIPTION:
URL;VALUE=URI:
SUMMARY:IRONMAN 70.3 Durban
DTSTART:20240601T230000Z
END:VEVENT
END:VCALENDAR
An internal server error occurred.