BEGIN:VCALENDAR
VERSION:2.0
PRODID:-//hacksw/handcal//NONSGML v1.0//EN
CALSCALE:GREGORIAN
BEGIN:VEVENT
DTEND:20240518T230000Z
UID:69e5e2237639d
DTSTAMP:20260420T092155Z
LOCATION:88000-000 Florianopolis\, Brazil

DESCRIPTION:
URL;VALUE=URI:
SUMMARY:IRONMAN Brazil
DTSTART:20240518T230000Z
END:VEVENT
END:VCALENDAR
An internal server error occurred.