BEGIN:VCALENDAR
VERSION:2.0
PRODID:-//hacksw/handcal//NONSGML v1.0//EN
CALSCALE:GREGORIAN
BEGIN:VEVENT
DTEND:20240510T230000Z
UID:69ece7a154d38
DTSTAMP:20260425T171113Z
LOCATION:10000 Alcúdia\, Mallorca\, Spain
DESCRIPTION:
URL;VALUE=URI:
SUMMARY:IRONMAN 70.3 Alcúdia-Mallorca
DTSTART:20240510T230000Z
END:VEVENT
END:VCALENDAR
An internal server error occurred.