BEGIN:VCALENDAR
VERSION:2.0
PRODID:-//hacksw/handcal//NONSGML v1.0//EN
CALSCALE:GREGORIAN
BEGIN:VEVENT
DTEND:20240427T230000Z
UID:69e59f9b1366e
DTSTAMP:20260420T043803Z
LOCATION:Cap Cana\, Dominican Republic
DESCRIPTION:
URL;VALUE=URI:
SUMMARY:IRONMAN 70.3 Cap Cana
DTSTART:20240427T230000Z
END:VEVENT
END:VCALENDAR
An internal server error occurred.