BEGIN:VCALENDAR
VERSION:2.0
PRODID:-//hacksw/handcal//NONSGML v1.0//EN
CALSCALE:GREGORIAN
BEGIN:VEVENT
DTEND:20240607T230000Z
UID:69e5cf78ed8e9
DTSTAMP:20260420T080216Z
LOCATION:1220 Wien
DESCRIPTION:
URL;VALUE=URI:
SUMMARY:DC Tower Run
DTSTART:20240607T230000Z
END:VEVENT
END:VCALENDAR
An internal server error occurred.