BEGIN:VCALENDAR
VERSION:2.0
PRODID:-//hacksw/handcal//NONSGML v1.0//EN
CALSCALE:GREGORIAN
BEGIN:VEVENT
DTEND:20240529T230000Z
UID:69e5d5f666cf4
DTSTAMP:20260420T082958Z
LOCATION:1220 Wien
DESCRIPTION:
URL;VALUE=URI:
SUMMARY:Seestadt Triathlon Vienna
DTSTART:20240528T230000Z
END:VEVENT
END:VCALENDAR
An internal server error occurred.