BEGIN:VCALENDAR
VERSION:2.0
PRODID:-//hacksw/handcal//NONSGML v1.0//EN
CALSCALE:GREGORIAN
BEGIN:VEVENT
DTEND:20240913T230000Z
UID:69e859e0ae915
DTSTAMP:20260422T061720Z
LOCATION:2732 Würflach
DESCRIPTION:
URL;VALUE=URI:
SUMMARY:Run the Klamm Würflach
DTSTART:20240913T230000Z
END:VEVENT
END:VCALENDAR
An internal server error occurred.