BEGIN:VCALENDAR
VERSION:2.0
PRODID:-//hacksw/handcal//NONSGML v1.0//EN
CALSCALE:GREGORIAN
BEGIN:VEVENT
DTEND:20240607T230000Z
UID:69e9ae0476746
DTSTAMP:20260423T062836Z
LOCATION:2232 Deutsch Wagram
DESCRIPTION:
URL;VALUE=URI:
SUMMARY:Deutsch Wagramer Lauftag
DTSTART:20240607T230000Z
END:VEVENT
END:VCALENDAR
An internal server error occurred.