BEGIN:VCALENDAR
VERSION:2.0
PRODID:-//hacksw/handcal//NONSGML v1.0//EN
CALSCALE:GREGORIAN
BEGIN:VEVENT
DTEND:20241011T230000Z
UID:69e73ac7271ea
DTSTAMP:20260421T095223Z
LOCATION:3652 Leiben
DESCRIPTION:
URL;VALUE=URI:
SUMMARY:Woidwetza Dirt Run
DTSTART:20241011T230000Z
END:VEVENT
END:VCALENDAR
An internal server error occurred.