BEGIN:VCALENDAR
VERSION:2.0
PRODID:-//hacksw/handcal//NONSGML v1.0//EN
CALSCALE:GREGORIAN
BEGIN:VEVENT
DTEND:20240621T230000Z
UID:69eae6244e020
DTSTAMP:20260424T044020Z
LOCATION:8020 Graz
DESCRIPTION:
URL;VALUE=URI:
SUMMARY:Austria eXtreme Triathlon
DTSTART:20240621T230000Z
END:VEVENT
END:VCALENDAR
An internal server error occurred.