BEGIN:VCALENDAR
VERSION:2.0
PRODID:-//hacksw/handcal//NONSGML v1.0//EN
CALSCALE:GREGORIAN
BEGIN:VEVENT
DTEND:20241102T230000Z
UID:69e7235c9bc0f
DTSTAMP:20260421T081228Z
LOCATION:18057 Rostock
DESCRIPTION:
URL;VALUE=URI:
SUMMARY:Rostocker Herbstlauf
DTSTART:20241102T230000Z
END:VEVENT
END:VCALENDAR
An internal server error occurred.