BEGIN:VCALENDAR
VERSION:2.0
PRODID:-//hacksw/handcal//NONSGML v1.0//EN
CALSCALE:GREGORIAN
BEGIN:VEVENT
DTEND:20241026T230000Z
UID:69ecb7d7bd8cd
DTSTAMP:20260425T134719Z
LOCATION:5020 Salzburg
DESCRIPTION:
URL;VALUE=URI:
SUMMARY:Salzburg Trailrunning-Festival
DTSTART:20241024T230000Z
END:VEVENT
END:VCALENDAR
An internal server error occurred.