BEGIN:VCALENDAR
VERSION:2.0
PRODID:-//hacksw/handcal//NONSGML v1.0//EN
CALSCALE:GREGORIAN
BEGIN:VEVENT
DTEND:20241019T230000Z
UID:69e720fb7a061
DTSTAMP:20260421T080219Z
LOCATION:24782 Büdelsdorf
DESCRIPTION:
URL;VALUE=URI:
SUMMARY:Büdelsdorfer Eiderlauf
DTSTART:20241019T230000Z
END:VEVENT
END:VCALENDAR
An internal server error occurred.