BEGIN:VCALENDAR
VERSION:2.0
PRODID:-//hacksw/handcal//NONSGML v1.0//EN
CALSCALE:GREGORIAN
BEGIN:VEVENT
DTEND:20241012T230000Z
UID:69e79d948519b
DTSTAMP:20260421T165356Z
LOCATION:78199 Bräunlingen

DESCRIPTION:
URL;VALUE=URI:
SUMMARY:Schwarzwald-Marathon
DTSTART:20241011T230000Z
END:VEVENT
END:VCALENDAR
An internal server error occurred.