BEGIN:VCALENDAR
VERSION:2.0
PRODID:-//hacksw/handcal//NONSGML v1.0//EN
CALSCALE:GREGORIAN
BEGIN:VEVENT
DTEND:20240928T230000Z
UID:69e7c7cd6ddee
DTSTAMP:20260421T195405Z
LOCATION:3430 Tulln
DESCRIPTION:
URL;VALUE=URI:
SUMMARY:Tullner Lauftage Marathon
DTSTART:20240926T230000Z
END:VEVENT
END:VCALENDAR
An internal server error occurred.