BEGIN:VCALENDAR
VERSION:2.0
PRODID:-//hacksw/handcal//NONSGML v1.0//EN
CALSCALE:GREGORIAN
BEGIN:VEVENT
DTEND:20240921T230000Z
UID:69e6d3b09d461
DTSTAMP:20260421T023232Z
LOCATION:21762 Otterndorf
DESCRIPTION:
URL;VALUE=URI:
SUMMARY:Küstenmarathon
DTSTART:20240921T230000Z
END:VEVENT
END:VCALENDAR
An internal server error occurred.