BEGIN:VCALENDAR
VERSION:2.0
PRODID:-//hacksw/handcal//NONSGML v1.0//EN
CALSCALE:GREGORIAN
BEGIN:VEVENT
DTEND:20240913T230000Z
UID:69e859d8e76f3
DTSTAMP:20260422T061712Z
LOCATION:23758 Oldenburg i. Holstein
DESCRIPTION:
URL;VALUE=URI:
SUMMARY:Oldenburger Hospizlauf
DTSTART:20240913T230000Z
END:VEVENT
END:VCALENDAR
An internal server error occurred.