BEGIN:VCALENDAR
VERSION:2.0
PRODID:-//hacksw/handcal//NONSGML v1.0//EN
CALSCALE:GREGORIAN
BEGIN:VEVENT
DTEND:20240912T230000Z
UID:69e6c9eae7f1d
DTSTAMP:20260421T015050Z
LOCATION:6992 Hirschegg
DESCRIPTION:
URL;VALUE=URI:
SUMMARY:Transalpine Run
DTSTART:20240906T230000Z
END:VEVENT
END:VCALENDAR
An internal server error occurred.