BEGIN:VCALENDAR
VERSION:2.0
PRODID:-//hacksw/handcal//NONSGML v1.0//EN
CALSCALE:GREGORIAN
BEGIN:VEVENT
DTEND:20240913T230000Z
UID:69ecedca014bd
DTSTAMP:20260425T173730Z
LOCATION:38644 Goslar-Hahnenklee
DESCRIPTION:
URL;VALUE=URI:
SUMMARY:10 Teiche Marathon Hahnenklee
DTSTART:20240913T230000Z
END:VEVENT
END:VCALENDAR
An internal server error occurred.