BEGIN:VCALENDAR
VERSION:2.0
PRODID:-//hacksw/handcal//NONSGML v1.0//EN
CALSCALE:GREGORIAN
BEGIN:VEVENT
DTEND:20240907T230000Z
UID:69e56976eee12
DTSTAMP:20260420T004702Z
LOCATION:6215 Achensee
DESCRIPTION:
URL;VALUE=URI:
SUMMARY:Achenseelauf
DTSTART:20240906T230000Z
END:VEVENT
END:VCALENDAR
An internal server error occurred.