BEGIN:VCALENDAR
VERSION:2.0
PRODID:-//hacksw/handcal//NONSGML v1.0//EN
CALSCALE:GREGORIAN
BEGIN:VEVENT
DTEND:20240830T230000Z
UID:69e6c9eaa582c
DTSTAMP:20260421T015050Z
LOCATION:8680 Mürzzuschlag
DESCRIPTION:
URL;VALUE=URI:
SUMMARY:Mürzathlon
DTSTART:20240830T230000Z
END:VEVENT
END:VCALENDAR
An internal server error occurred.