BEGIN:VCALENDAR
VERSION:2.0
PRODID:-//hacksw/handcal//NONSGML v1.0//EN
CALSCALE:GREGORIAN
BEGIN:VEVENT
DTEND:20240824T230000Z
UID:69e725a8079f8
DTSTAMP:20260421T082216Z
LOCATION:35099 Burgwald
DESCRIPTION:
URL;VALUE=URI:
SUMMARY:Burgwald Märchen Marathon
DTSTART:20240824T230000Z
END:VEVENT
END:VCALENDAR
An internal server error occurred.