BEGIN:VCALENDAR
VERSION:2.0
PRODID:-//hacksw/handcal//NONSGML v1.0//EN
CALSCALE:GREGORIAN
BEGIN:VEVENT
DTEND:20240525T230000Z
UID:69ed845dbcb4c
DTSTAMP:20260426T041957Z
LOCATION:1020 Wien
DESCRIPTION:
URL;VALUE=URI:
SUMMARY:Österreichischer Frauenlauf Wien
DTSTART:20240525T230000Z
END:VEVENT
END:VCALENDAR
An internal server error occurred.