BEGIN:VCALENDAR
VERSION:2.0
PRODID:-//hacksw/handcal//NONSGML v1.0//EN
CALSCALE:GREGORIAN
BEGIN:VEVENT
DTEND:20240705T230000Z
UID:69e63b4cb7ad4
DTSTAMP:20260420T154220Z
LOCATION:4784 Schardenberg
DESCRIPTION:
URL;VALUE=URI:
SUMMARY:Sauwald Trail
DTSTART:20240705T230000Z
END:VEVENT
END:VCALENDAR
An internal server error occurred.