BEGIN:VCALENDAR
VERSION:2.0
PRODID:-//hacksw/handcal//NONSGML v1.0//EN
CALSCALE:GREGORIAN
BEGIN:VEVENT
DTEND:20241004T230000Z
UID:69e994a69b1d7
DTSTAMP:20260423T044022Z
LOCATION:83242 Reit im Winkl 
DESCRIPTION:
URL;VALUE=URI:
SUMMARY: Mountainman Reit im Winkl
DTSTART:20241004T230000Z
END:VEVENT
END:VCALENDAR
An internal server error occurred.