BEGIN:VCALENDAR
VERSION:2.0
PRODID:-//hacksw/handcal//NONSGML v1.0//EN
CALSCALE:GREGORIAN
BEGIN:VEVENT
DTEND:20240629T230000Z
UID:69e5f19d1de69
DTSTAMP:20260420T102757Z
LOCATION:66679 Losheim am See
DESCRIPTION:
URL;VALUE=URI:
SUMMARY:Losheimer Trailfest
DTSTART:20240627T230000Z
END:VEVENT
END:VCALENDAR
An internal server error occurred.