BEGIN:VCALENDAR
VERSION:2.0
PRODID:-//hacksw/handcal//NONSGML v1.0//EN
CALSCALE:GREGORIAN
BEGIN:VEVENT
DTEND:20240826T230000Z
UID:69e5d167015c7
DTSTAMP:20260420T081031Z
LOCATION:74400 Chamonix-Mont-Blanc
DESCRIPTION:
URL;VALUE=URI:
SUMMARY:Mont-Blanc Marathon
DTSTART:20240826T230000Z
END:VEVENT
END:VCALENDAR
An internal server error occurred.