BEGIN:VCALENDAR
VERSION:2.0
PRODID:-//hacksw/handcal//NONSGML v1.0//EN
CALSCALE:GREGORIAN
BEGIN:VEVENT
DTEND:20240607T230000Z
UID:69e5cf7022686
DTSTAMP:20260420T080208Z
LOCATION:49457 Drebber
DESCRIPTION:
URL;VALUE=URI:
SUMMARY:Drebber-Marathon
DTSTART:20240607T230000Z
END:VEVENT
END:VCALENDAR
An internal server error occurred.