BEGIN:VCALENDAR
VERSION:2.0
PRODID:-//hacksw/handcal//NONSGML v1.0//EN
CALSCALE:GREGORIAN
BEGIN:VEVENT
DTEND:20240614T230000Z
UID:69e5a35008372
DTSTAMP:20260420T045352Z
LOCATION:27632 Nordseeküste
DESCRIPTION:
URL;VALUE=URI:
SUMMARY:EWE-Nordseelauf
DTSTART:20240607T230000Z
END:VEVENT
END:VCALENDAR
An internal server error occurred.