BEGIN:VCALENDAR
VERSION:2.0
PRODID:-//hacksw/handcal//NONSGML v1.0//EN
CALSCALE:GREGORIAN
BEGIN:VEVENT
DTEND:20240601T230000Z
UID:69e5dd62e791f
DTSTAMP:20260420T090138Z
LOCATION:26131 Oldenburg
DESCRIPTION:
URL;VALUE=URI:
SUMMARY:Everstener Brunnenlauf
DTSTART:20240601T230000Z
END:VEVENT
END:VCALENDAR
An internal server error occurred.