BEGIN:VCALENDAR
VERSION:2.0
PRODID:-//hacksw/handcal//NONSGML v1.0//EN
CALSCALE:GREGORIAN
BEGIN:VEVENT
DTEND:20240608T230000Z
UID:69e5bee038a52
DTSTAMP:20260420T065128Z
LOCATION:26384 Wilhelmshaven
DESCRIPTION:
URL;VALUE=URI:
SUMMARY:Gorch-Fock-Lauf
DTSTART:20240608T230000Z
END:VEVENT
END:VCALENDAR
An internal server error occurred.