BEGIN:VCALENDAR
VERSION:2.0
PRODID:-//hacksw/handcal//NONSGML v1.0//EN
CALSCALE:GREGORIAN
BEGIN:VEVENT
DTEND:20240531T230000Z
UID:69e9729a6e635
DTSTAMP:20260423T021506Z
LOCATION:9171 Longyearbyen
DESCRIPTION:
URL;VALUE=URI:
SUMMARY: Spitsbergen Marathon
DTSTART:20240531T230000Z
END:VEVENT
END:VCALENDAR
An internal server error occurred.