BEGIN:VCALENDAR
VERSION:2.0
PRODID:-//hacksw/handcal//NONSGML v1.0//EN
CALSCALE:GREGORIAN
BEGIN:VEVENT
DTEND:20240420T230000Z
UID:69e774a22f2fe
DTSTAMP:20260421T135914Z
LOCATION:18375 Wieck a. Darß
DESCRIPTION:
URL;VALUE=URI:
SUMMARY:Darß Marathon
DTSTART:20240419T230000Z
END:VEVENT
END:VCALENDAR
An internal server error occurred.