BEGIN:VCALENDAR
VERSION:2.0
PRODID:-//hacksw/handcal//NONSGML v1.0//EN
CALSCALE:GREGORIAN
BEGIN:VEVENT
DTEND:20240419T230000Z
UID:69e7e3dfd8669
DTSTAMP:20260421T215351Z
LOCATION:94169 Thurmansbang

DESCRIPTION:
URL;VALUE=URI:
SUMMARY:Dreiburgenlandmarathon
DTSTART:20240419T230000Z
END:VEVENT
END:VCALENDAR
An internal server error occurred.