BEGIN:VCALENDAR
VERSION:2.0
PRODID:-//hacksw/handcal//NONSGML v1.0//EN
CALSCALE:GREGORIAN
BEGIN:VEVENT
DTEND:20240504T230000Z
UID:69ece7bb51642
DTSTAMP:20260425T171139Z
LOCATION:38838 Huy-Burgen-Lauf
DESCRIPTION:
URL;VALUE=URI:
SUMMARY:Huy-Burgen-Lauf
DTSTART:20240503T230000Z
END:VEVENT
END:VCALENDAR
An internal server error occurred.